Package: airway Version: 1.28.0 Maintainer: Michael Love MaintainerEmail: michaelisaiahlove at gmail.com git_url: https://git.bioconductor.org/packages/airway git_branch: RELEASE_3_21 git_last_commit: 4896ff2 git_last_commit_date: 2025-04-15 09:55:34 -0400 (Tue, 15 Apr 2025)