Package: affydata Version: 1.56.0 Maintainer: Robert D Shear MaintainerEmail: rshear at ds.dfci.harvard.edu git_url: https://git.bioconductor.org/packages/affydata git_branch: RELEASE_3_21 git_last_commit: f72e431 git_last_commit_date: 2025-04-15 09:12:53 -0400 (Tue, 15 Apr 2025)