Package: WGSmapp Version: 1.20.0 Maintainer: Rujin Wang MaintainerEmail: rujin at email.unc.edu git_url: https://git.bioconductor.org/packages/WGSmapp git_branch: RELEASE_3_21 git_last_commit: 562f0a1 git_last_commit_date: 2025-04-15 10:14:37 -0400 (Tue, 15 Apr 2025)