Package: WES.1KG.WUGSC Version: 1.40.0 Command: /home/biocbuild/bbs-3.21-bioc/R/bin/R CMD INSTALL WES.1KG.WUGSC StartedAt: 2025-04-24 10:55:58 -0400 (Thu, 24 Apr 2025) EndedAt: 2025-04-24 10:56:01 -0400 (Thu, 24 Apr 2025) EllapsedTime: 3.5 seconds RetCode: 0 Status: OK