Package: TimerQuant Version: 1.38.0 Command: /home/biocbuild/bbs-3.21-bioc/R/bin/R CMD build --keep-empty-dirs --no-resave-data TimerQuant StartedAt: 2025-04-24 11:43:15 -0400 (Thu, 24 Apr 2025) EndedAt: 2025-04-24 11:44:09 -0400 (Thu, 24 Apr 2025) EllapsedTime: 53.5 seconds RetCode: 0 Status: OK PackageFile: TimerQuant_1.38.0.tar.gz PackageFileSize: 1.746 MiB