Package: TabulaMurisSenisData Version: 1.14.0 Command: /home/biocbuild/bbs-3.21-bioc/R/bin/R CMD build --keep-empty-dirs --no-resave-data TabulaMurisSenisData StartedAt: 2025-04-24 11:41:38 -0400 (Thu, 24 Apr 2025) EndedAt: 2025-04-24 11:43:15 -0400 (Thu, 24 Apr 2025) EllapsedTime: 97.1 seconds RetCode: 0 Status: OK PackageFile: TabulaMurisSenisData_1.14.0.tar.gz PackageFileSize: 2.502 MiB