Package: TabulaMurisData Version: 1.26.0 Command: /home/biocbuild/bbs-3.21-bioc/R/bin/R CMD INSTALL TabulaMurisData StartedAt: 2025-04-24 10:57:24 -0400 (Thu, 24 Apr 2025) EndedAt: 2025-04-24 10:57:37 -0400 (Thu, 24 Apr 2025) EllapsedTime: 12.8 seconds RetCode: 0 Status: OK