Package: TENxXeniumData Version: 1.4.0 Command: /home/biocbuild/bbs-3.21-bioc/R/bin/R CMD check --install=check:TENxXeniumData.install-out.txt --library=/home/biocbuild/bbs-3.21-bioc/R/site-library --timings TENxXeniumData_1.4.0.tar.gz StartedAt: 2025-04-24 12:52:02 -0400 (Thu, 24 Apr 2025) EndedAt: 2025-04-24 12:59:36 -0400 (Thu, 24 Apr 2025) EllapsedTime: 453.6 seconds RetCode: 0 Status: OK CheckDir: TENxXeniumData.Rcheck Warnings: 0