Package: TCGAbiolinksGUI.data Version: 1.28.0 Command: /home/biocbuild/bbs-3.21-bioc/R/bin/R CMD INSTALL TCGAbiolinksGUI.data StartedAt: 2025-04-24 10:55:22 -0400 (Thu, 24 Apr 2025) EndedAt: 2025-04-24 10:55:31 -0400 (Thu, 24 Apr 2025) EllapsedTime: 9.4 seconds RetCode: 0 Status: OK