Package: TCGAbiolinksGUI.data Version: 1.28.0 Command: /home/biocbuild/bbs-3.21-bioc/R/bin/R CMD check --install=check:TCGAbiolinksGUI.data.install-out.txt --library=/home/biocbuild/bbs-3.21-bioc/R/site-library --timings TCGAbiolinksGUI.data_1.28.0.tar.gz StartedAt: 2025-04-24 12:48:38 -0400 (Thu, 24 Apr 2025) EndedAt: 2025-04-24 12:52:06 -0400 (Thu, 24 Apr 2025) EllapsedTime: 208.3 seconds RetCode: 0 Status: WARNINGS CheckDir: TCGAbiolinksGUI.data.Rcheck Warnings: 1