Package: TCGAbiolinksGUI.data Version: 1.28.0 Command: /home/biocbuild/bbs-3.21-bioc/R/bin/R CMD build --keep-empty-dirs --no-resave-data TCGAbiolinksGUI.data StartedAt: 2025-04-24 11:42:19 -0400 (Thu, 24 Apr 2025) EndedAt: 2025-04-24 11:42:50 -0400 (Thu, 24 Apr 2025) EllapsedTime: 30.5 seconds RetCode: 0 Status: OK PackageFile: TCGAbiolinksGUI.data_1.28.0.tar.gz PackageFileSize: 21.86 MiB