Package: SpikeInSubset Version: 1.48.0 Command: /home/biocbuild/bbs-3.21-bioc/R/bin/R CMD build --keep-empty-dirs --no-resave-data SpikeInSubset StartedAt: 2025-04-24 11:41:05 -0400 (Thu, 24 Apr 2025) EndedAt: 2025-04-24 11:41:09 -0400 (Thu, 24 Apr 2025) EllapsedTime: 4.1 seconds RetCode: 0 Status: OK PackageFile: SpikeInSubset_1.48.0.tar.gz PackageFileSize: 17.99 MiB