Package: STexampleData Version: 1.16.0 Command: /home/biocbuild/bbs-3.21-bioc/R/bin/R CMD INSTALL STexampleData StartedAt: 2025-04-24 10:58:53 -0400 (Thu, 24 Apr 2025) EndedAt: 2025-04-24 10:59:23 -0400 (Thu, 24 Apr 2025) EllapsedTime: 29.9 seconds RetCode: 0 Status: OK