Package: STexampleData Version: 1.16.0 Command: /home/biocbuild/bbs-3.21-bioc/R/bin/R CMD build --keep-empty-dirs --no-resave-data STexampleData StartedAt: 2025-04-24 11:41:11 -0400 (Thu, 24 Apr 2025) EndedAt: 2025-04-24 11:42:52 -0400 (Thu, 24 Apr 2025) EllapsedTime: 100.6 seconds RetCode: 0 Status: OK PackageFile: STexampleData_1.16.0.tar.gz PackageFileSize: 235.5 KiB