Package: RnaSeqSampleSizeData Version: 1.40.0 Command: /home/biocbuild/bbs-3.21-bioc/R/bin/R CMD INSTALL RnaSeqSampleSizeData StartedAt: 2025-04-24 10:56:37 -0400 (Thu, 24 Apr 2025) EndedAt: 2025-04-24 10:56:40 -0400 (Thu, 24 Apr 2025) EllapsedTime: 2.4 seconds RetCode: 0 Status: OK