Package: RnaSeqSampleSizeData Version: 1.40.0 Command: /home/biocbuild/bbs-3.21-bioc/R/bin/R CMD check --install=check:RnaSeqSampleSizeData.install-out.txt --library=/home/biocbuild/bbs-3.21-bioc/R/site-library --timings RnaSeqSampleSizeData_1.40.0.tar.gz StartedAt: 2025-04-24 12:36:12 -0400 (Thu, 24 Apr 2025) EndedAt: 2025-04-24 12:36:40 -0400 (Thu, 24 Apr 2025) EllapsedTime: 27.6 seconds RetCode: 0 Status: OK CheckDir: RnaSeqSampleSizeData.Rcheck Warnings: 0