Package: RnBeads.rn5 Version: 1.40.0 Maintainer: RnBeadsAnnotationCreator MaintainerEmail: rnbeads at mpi-inf.mpg.de git_url: https://git.bioconductor.org/packages/RnBeads.rn5 git_branch: RELEASE_3_21 git_last_commit: 2533d7f git_last_commit_date: 2025-04-15 10:01:55 -0400 (Tue, 15 Apr 2025)