Package: RnBeads.mm10 Version: 2.16.0 Maintainer: RnBeads Team MaintainerEmail: team at rnbeads.org git_url: https://git.bioconductor.org/packages/RnBeads.mm10 git_branch: RELEASE_3_21 git_last_commit: ab7a2a9 git_last_commit_date: 2025-04-15 10:01:23 -0400 (Tue, 15 Apr 2025)