Package: ReactomeGSA.data Version: 1.22.0 Command: /home/biocbuild/bbs-3.21-bioc/R/bin/R CMD INSTALL ReactomeGSA.data StartedAt: 2025-04-24 11:03:30 -0400 (Thu, 24 Apr 2025) EndedAt: 2025-04-24 11:03:48 -0400 (Thu, 24 Apr 2025) EllapsedTime: 18.1 seconds RetCode: 0 Status: OK