Package: ReactomeGSA.data Version: 1.22.0 Command: /home/biocbuild/bbs-3.21-bioc/R/bin/R CMD build --keep-empty-dirs --no-resave-data ReactomeGSA.data StartedAt: 2025-04-24 11:35:36 -0400 (Thu, 24 Apr 2025) EndedAt: 2025-04-24 11:36:58 -0400 (Thu, 24 Apr 2025) EllapsedTime: 81.7 seconds RetCode: 0 Status: OK PackageFile: ReactomeGSA.data_1.22.0.tar.gz PackageFileSize: 23.08 MiB