Package: RTCGA.RPPA Version: 1.36.0 Command: /home/biocbuild/bbs-3.21-bioc/R/bin/R CMD INSTALL RTCGA.RPPA StartedAt: 2025-04-24 11:04:18 -0400 (Thu, 24 Apr 2025) EndedAt: 2025-04-24 11:04:29 -0400 (Thu, 24 Apr 2025) EllapsedTime: 10.6 seconds RetCode: 0 Status: OK