Package: RTCGA.PANCAN12 Version: 1.36.0 Command: /home/biocbuild/bbs-3.21-bioc/R/bin/R CMD check --install=check:RTCGA.PANCAN12.install-out.txt --library=/home/biocbuild/bbs-3.21-bioc/R/site-library --timings RTCGA.PANCAN12_1.36.0.tar.gz StartedAt: 2025-04-24 12:40:08 -0400 (Thu, 24 Apr 2025) EndedAt: 2025-04-24 12:42:04 -0400 (Thu, 24 Apr 2025) EllapsedTime: 115.8 seconds RetCode: 0 Status: OK CheckDir: RTCGA.PANCAN12.Rcheck Warnings: 0