Package: RTCGA.CNV Version: 1.36.0 Command: /home/biocbuild/bbs-3.21-bioc/R/bin/R CMD INSTALL RTCGA.CNV StartedAt: 2025-04-24 11:04:09 -0400 (Thu, 24 Apr 2025) EndedAt: 2025-04-24 11:04:26 -0400 (Thu, 24 Apr 2025) EllapsedTime: 16.7 seconds RetCode: 0 Status: OK