Package: RTCGA.CNV Version: 1.36.0 Command: /home/biocbuild/bbs-3.21-bioc/R/bin/R CMD check --install=check:RTCGA.CNV.install-out.txt --library=/home/biocbuild/bbs-3.21-bioc/R/site-library --timings RTCGA.CNV_1.36.0.tar.gz StartedAt: 2025-04-24 12:39:02 -0400 (Thu, 24 Apr 2025) EndedAt: 2025-04-24 12:40:07 -0400 (Thu, 24 Apr 2025) EllapsedTime: 65.2 seconds RetCode: 0 Status: WARNINGS CheckDir: RTCGA.CNV.Rcheck Warnings: 1