Package: RTCGA.CNV Version: 1.36.0 Command: /home/biocbuild/bbs-3.21-bioc/R/bin/R CMD build --keep-empty-dirs --no-resave-data RTCGA.CNV StartedAt: 2025-04-24 11:37:00 -0400 (Thu, 24 Apr 2025) EndedAt: 2025-04-24 11:37:20 -0400 (Thu, 24 Apr 2025) EllapsedTime: 20.2 seconds RetCode: 0 Status: OK PackageFile: RTCGA.CNV_1.36.0.tar.gz PackageFileSize: 27.37 MiB