Package: QDNAseq.hg19 Version: 1.38.0 Command: /home/biocbuild/bbs-3.21-bioc/R/bin/R CMD build --keep-empty-dirs --no-resave-data QDNAseq.hg19 StartedAt: 2025-04-24 11:35:01 -0400 (Thu, 24 Apr 2025) EndedAt: 2025-04-24 11:35:04 -0400 (Thu, 24 Apr 2025) EllapsedTime: 3.3 seconds RetCode: 0 Status: OK PackageFile: QDNAseq.hg19_1.38.0.tar.gz PackageFileSize: 35.26 MiB