Package: NetActivityData Version: 1.10.0 Command: /home/biocbuild/bbs-3.21-bioc/R/bin/R CMD INSTALL NetActivityData StartedAt: 2025-04-24 10:55:57 -0400 (Thu, 24 Apr 2025) EndedAt: 2025-04-24 10:56:05 -0400 (Thu, 24 Apr 2025) EllapsedTime: 7.7 seconds RetCode: 0 Status: OK