Package: NetActivityData Version: 1.10.0 Command: /home/biocbuild/bbs-3.21-bioc/R/bin/R CMD build --keep-empty-dirs --no-resave-data NetActivityData StartedAt: 2025-04-24 11:31:56 -0400 (Thu, 24 Apr 2025) EndedAt: 2025-04-24 11:32:11 -0400 (Thu, 24 Apr 2025) EllapsedTime: 14.5 seconds RetCode: 0 Status: OK PackageFile: NetActivityData_1.10.0.tar.gz PackageFileSize: 5.269 MiB