Package: MouseGastrulationData Version: 1.22.0 Command: /home/biocbuild/bbs-3.21-bioc/R/bin/R CMD build --keep-empty-dirs --no-resave-data MouseGastrulationData StartedAt: 2025-04-24 11:30:13 -0400 (Thu, 24 Apr 2025) EndedAt: 2025-04-24 11:31:33 -0400 (Thu, 24 Apr 2025) EllapsedTime: 79.7 seconds RetCode: 0 Status: OK PackageFile: MouseGastrulationData_1.22.0.tar.gz PackageFileSize: 507.6 KiB