Package: KEGGandMetacoreDzPathwaysGEO Version: 1.28.0 Maintainer: Gaurav Bhatti MaintainerEmail: gbhatti at med.wayne.edu git_url: https://git.bioconductor.org/packages/KEGGandMetacoreDzPathwaysGEO git_branch: RELEASE_3_21 git_last_commit: fb4d093 git_last_commit_date: 2025-04-15 09:55:07 -0400 (Tue, 15 Apr 2025)