Package: JASPAR2014 Version: 1.44.0 Command: /home/biocbuild/bbs-3.21-bioc/R/bin/R CMD INSTALL JASPAR2014 StartedAt: 2025-04-24 10:56:40 -0400 (Thu, 24 Apr 2025) EndedAt: 2025-04-24 10:57:09 -0400 (Thu, 24 Apr 2025) EllapsedTime: 29.5 seconds RetCode: 0 Status: OK