Package: ITALICSData Version: 2.46.0 Command: /home/biocbuild/bbs-3.21-bioc/R/bin/R CMD INSTALL ITALICSData StartedAt: 2025-04-24 10:55:23 -0400 (Thu, 24 Apr 2025) EndedAt: 2025-04-24 10:55:26 -0400 (Thu, 24 Apr 2025) EllapsedTime: 2.4 seconds RetCode: 0 Status: OK