Package: ITALICSData Version: 2.46.0 Command: /home/biocbuild/bbs-3.21-bioc/R/bin/R CMD check --install=check:ITALICSData.install-out.txt --library=/home/biocbuild/bbs-3.21-bioc/R/site-library --timings ITALICSData_2.46.0.tar.gz StartedAt: 2025-04-24 12:17:12 -0400 (Thu, 24 Apr 2025) EndedAt: 2025-04-24 12:17:31 -0400 (Thu, 24 Apr 2025) EllapsedTime: 19.6 seconds RetCode: 0 Status: WARNINGS CheckDir: ITALICSData.Rcheck Warnings: 1