Package: ITALICSData Version: 2.46.0 Command: /home/biocbuild/bbs-3.21-bioc/R/bin/R CMD build --keep-empty-dirs --no-resave-data ITALICSData StartedAt: 2025-04-24 11:24:47 -0400 (Thu, 24 Apr 2025) EndedAt: 2025-04-24 11:26:02 -0400 (Thu, 24 Apr 2025) EllapsedTime: 74.5 seconds RetCode: 0 Status: OK PackageFile: ITALICSData_2.46.0.tar.gz PackageFileSize: 83.5 MiB