Package: HighlyReplicatedRNASeq Version: 1.20.0 Command: /home/biocbuild/bbs-3.21-bioc/R/bin/R CMD check --install=check:HighlyReplicatedRNASeq.install-out.txt --library=/home/biocbuild/bbs-3.21-bioc/R/site-library --timings HighlyReplicatedRNASeq_1.20.0.tar.gz StartedAt: 2025-04-24 12:13:42 -0400 (Thu, 24 Apr 2025) EndedAt: 2025-04-24 12:17:04 -0400 (Thu, 24 Apr 2025) EllapsedTime: 202.1 seconds RetCode: 0 Status: OK CheckDir: HighlyReplicatedRNASeq.Rcheck Warnings: 0