Package: HiContactsData Version: 1.10.0 Command: /home/biocbuild/bbs-3.21-bioc/R/bin/R CMD check --install=check:HiContactsData.install-out.txt --library=/home/biocbuild/bbs-3.21-bioc/R/site-library --timings HiContactsData_1.10.0.tar.gz StartedAt: 2025-04-24 12:13:33 -0400 (Thu, 24 Apr 2025) EndedAt: 2025-04-24 12:15:21 -0400 (Thu, 24 Apr 2025) EllapsedTime: 107.3 seconds RetCode: 0 Status: OK CheckDir: HiContactsData.Rcheck Warnings: 0