Package: HiContactsData Version: 1.10.0 Command: /home/biocbuild/bbs-3.21-bioc/R/bin/R CMD build --keep-empty-dirs --no-resave-data HiContactsData StartedAt: 2025-04-24 11:23:41 -0400 (Thu, 24 Apr 2025) EndedAt: 2025-04-24 11:24:04 -0400 (Thu, 24 Apr 2025) EllapsedTime: 22.3 seconds RetCode: 0 Status: OK PackageFile: HiContactsData_1.10.0.tar.gz PackageFileSize: 221.9 KiB