Package: HMP2Data Version: 1.22.0 Command: /home/biocbuild/bbs-3.21-bioc/R/bin/R CMD INSTALL HMP2Data StartedAt: 2025-04-24 11:00:27 -0400 (Thu, 24 Apr 2025) EndedAt: 2025-04-24 11:01:03 -0400 (Thu, 24 Apr 2025) EllapsedTime: 36.0 seconds RetCode: 0 Status: OK