Package: HMP2Data Version: 1.22.0 Command: /home/biocbuild/bbs-3.21-bioc/R/bin/R CMD check --install=check:HMP2Data.install-out.txt --library=/home/biocbuild/bbs-3.21-bioc/R/site-library --timings HMP2Data_1.22.0.tar.gz StartedAt: 2025-04-24 12:14:07 -0400 (Thu, 24 Apr 2025) EndedAt: 2025-04-24 12:19:00 -0400 (Thu, 24 Apr 2025) EllapsedTime: 293.6 seconds RetCode: 0 Status: OK CheckDir: HMP2Data.Rcheck Warnings: 0