Package: HMP2Data Version: 1.22.0 Command: /home/biocbuild/bbs-3.21-bioc/R/bin/R CMD build --keep-empty-dirs --no-resave-data HMP2Data StartedAt: 2025-04-24 11:24:02 -0400 (Thu, 24 Apr 2025) EndedAt: 2025-04-24 11:25:11 -0400 (Thu, 24 Apr 2025) EllapsedTime: 69.6 seconds RetCode: 0 Status: OK PackageFile: HMP2Data_1.22.0.tar.gz PackageFileSize: 5.146 MiB