Package: GSBenchMark Version: 1.28.0 Command: /home/biocbuild/bbs-3.21-bioc/R/bin/R CMD check --install=check:GSBenchMark.install-out.txt --library=/home/biocbuild/bbs-3.21-bioc/R/site-library --timings GSBenchMark_1.28.0.tar.gz StartedAt: 2025-04-24 12:09:49 -0400 (Thu, 24 Apr 2025) EndedAt: 2025-04-24 12:10:24 -0400 (Thu, 24 Apr 2025) EllapsedTime: 34.6 seconds RetCode: 0 Status: OK CheckDir: GSBenchMark.Rcheck Warnings: 0