Package: FieldEffectCrc Version: 1.18.0 Command: /home/biocbuild/bbs-3.21-bioc/R/bin/R CMD check --install=check:FieldEffectCrc.install-out.txt --library=/home/biocbuild/bbs-3.21-bioc/R/site-library --timings FieldEffectCrc_1.18.0.tar.gz StartedAt: 2025-04-24 12:05:36 -0400 (Thu, 24 Apr 2025) EndedAt: 2025-04-24 12:12:29 -0400 (Thu, 24 Apr 2025) EllapsedTime: 412.3 seconds RetCode: 0 Status: OK CheckDir: FieldEffectCrc.Rcheck Warnings: 0