Package: FieldEffectCrc Version: 1.18.0 Command: /home/biocbuild/bbs-3.21-bioc/R/bin/R CMD build --keep-empty-dirs --no-resave-data FieldEffectCrc StartedAt: 2025-04-24 11:17:02 -0400 (Thu, 24 Apr 2025) EndedAt: 2025-04-24 11:20:04 -0400 (Thu, 24 Apr 2025) EllapsedTime: 182.2 seconds RetCode: 0 Status: OK PackageFile: FieldEffectCrc_1.18.0.tar.gz PackageFileSize: 239.5 KiB