Package: DuoClustering2018 Version: 1.26.0 Command: /home/biocbuild/bbs-3.21-bioc/R/bin/R CMD INSTALL DuoClustering2018 StartedAt: 2025-04-24 10:56:45 -0400 (Thu, 24 Apr 2025) EndedAt: 2025-04-24 10:56:56 -0400 (Thu, 24 Apr 2025) EllapsedTime: 11.1 seconds RetCode: 0 Status: OK