Package: DuoClustering2018 Version: 1.26.0 Command: /home/biocbuild/bbs-3.21-bioc/R/bin/R CMD check --install=check:DuoClustering2018.install-out.txt --library=/home/biocbuild/bbs-3.21-bioc/R/site-library --timings DuoClustering2018_1.26.0.tar.gz StartedAt: 2025-04-24 12:01:42 -0400 (Thu, 24 Apr 2025) EndedAt: 2025-04-24 12:05:53 -0400 (Thu, 24 Apr 2025) EllapsedTime: 251.5 seconds RetCode: 0 Status: OK CheckDir: DuoClustering2018.Rcheck Warnings: 0