Package: DLBCL Version: 1.48.0 Maintainer: Marcus Dittrich MaintainerEmail: marcus.dittrich at biozentrum.uni-wuerzburg.de git_url: https://git.bioconductor.org/packages/DLBCL git_branch: RELEASE_3_21 git_last_commit: 11233bc git_last_commit_date: 2025-04-15 10:24:01 -0400 (Tue, 15 Apr 2025)