Package: CytoMethIC Version: 1.4.0 Command: /home/biocbuild/bbs-3.21-bioc/R/bin/R CMD INSTALL CytoMethIC StartedAt: 2025-04-24 11:04:24 -0400 (Thu, 24 Apr 2025) EndedAt: 2025-04-24 11:04:50 -0400 (Thu, 24 Apr 2025) EllapsedTime: 26.0 seconds RetCode: 0 Status: OK