Package: CytoMethIC Version: 1.4.0 Command: /home/biocbuild/bbs-3.21-bioc/R/bin/R CMD build --keep-empty-dirs --no-resave-data CytoMethIC StartedAt: 2025-04-24 11:13:21 -0400 (Thu, 24 Apr 2025) EndedAt: 2025-04-24 11:14:56 -0400 (Thu, 24 Apr 2025) EllapsedTime: 95.0 seconds RetCode: 0 Status: OK PackageFile: CytoMethIC_1.4.0.tar.gz PackageFileSize: 6.455 MiB