Package: CopyhelpeR Version: 1.40.0 Command: /home/biocbuild/bbs-3.21-bioc/R/bin/R CMD INSTALL CopyhelpeR StartedAt: 2025-04-24 10:55:10 -0400 (Thu, 24 Apr 2025) EndedAt: 2025-04-24 10:55:11 -0400 (Thu, 24 Apr 2025) EllapsedTime: 1.8 seconds RetCode: 0 Status: OK