Package: CopyNeutralIMA Version: 1.26.0 Command: /home/biocbuild/bbs-3.21-bioc/R/bin/R CMD INSTALL CopyNeutralIMA StartedAt: 2025-04-24 11:03:55 -0400 (Thu, 24 Apr 2025) EndedAt: 2025-04-24 11:04:12 -0400 (Thu, 24 Apr 2025) EllapsedTime: 16.7 seconds RetCode: 0 Status: OK